BEGIN:VCALENDAR
VERSION:2.0
PRODID:-//Carroll National Golf Club - ECPv6.15.17.1//NONSGML v1.0//EN
CALSCALE:GREGORIAN
METHOD:PUBLISH
X-WR-CALNAME:Carroll National Golf Club
X-ORIGINAL-URL:https://carrollnational.golf
X-WR-CALDESC:Events for Carroll National Golf Club
REFRESH-INTERVAL;VALUE=DURATION:PT1H
X-Robots-Tag:noindex
X-PUBLISHED-TTL:PT1H
BEGIN:VTIMEZONE
TZID:America/Chicago
BEGIN:DAYLIGHT
TZOFFSETFROM:-0600
TZOFFSETTO:-0500
TZNAME:CDT
DTSTART:20250309T080000
END:DAYLIGHT
BEGIN:STANDARD
TZOFFSETFROM:-0500
TZOFFSETTO:-0600
TZNAME:CST
DTSTART:20251102T070000
END:STANDARD
BEGIN:DAYLIGHT
TZOFFSETFROM:-0600
TZOFFSETTO:-0500
TZNAME:CDT
DTSTART:20260308T080000
END:DAYLIGHT
BEGIN:STANDARD
TZOFFSETFROM:-0500
TZOFFSETTO:-0600
TZNAME:CST
DTSTART:20261101T070000
END:STANDARD
BEGIN:DAYLIGHT
TZOFFSETFROM:-0600
TZOFFSETTO:-0500
TZNAME:CDT
DTSTART:20270314T080000
END:DAYLIGHT
BEGIN:STANDARD
TZOFFSETFROM:-0500
TZOFFSETTO:-0600
TZNAME:CST
DTSTART:20271107T070000
END:STANDARD
END:VTIMEZONE
BEGIN:VEVENT
DTSTART;TZID=America/Chicago:20260305T190000
DTEND;TZID=America/Chicago:20260305T200000
DTSTAMP:20260421T082124
CREATED:20260114T145949Z
LAST-MODIFIED:20260306T130441Z
UID:1356-1772737200-1772740800@carrollnational.golf
SUMMARY:TRIVIA & MEMBER DRAW RESULTS
DESCRIPTION:TRIVIA WINNERS\n \n  \n  \n  \n\n\n\n\n\n\n\n\n\n\n\nMEMBER DRAW\nCody and Erin Forch were not present to collect.\nNext weeks drawing is $425\n 
URL:https://carrollnational.golf/event_tec/trivia-member-draw-1-2-price-wings-4/
ATTACH;FMTTYPE=image/jpeg:https://carrollnational.golf/wp-content/uploads/2026/01/Trivia.jpg
END:VEVENT
BEGIN:VEVENT
DTSTART;TZID=America/Chicago:20260307T170000
DTEND;TZID=America/Chicago:20260307T210000
DTSTAMP:20260421T082124
CREATED:20260114T150553Z
LAST-MODIFIED:20260306T135314Z
UID:1365-1772902800-1772917200@carrollnational.golf
SUMMARY:76ers GAME WATCH & HAPPY HOUR
DESCRIPTION:  \n \n\n 
URL:https://carrollnational.golf/event_tec/76ers-game-watch-happy-hour-4/
END:VEVENT
BEGIN:VEVENT
DTSTART;TZID=America/Chicago:20260312T190000
DTEND;TZID=America/Chicago:20260312T200000
DTSTAMP:20260421T082124
CREATED:20260122T160514Z
LAST-MODIFIED:20260313T094630Z
UID:1548-1773342000-1773345600@carrollnational.golf
SUMMARY:BINGO NIGHT & MEMBER DRAW RESULTS
DESCRIPTION:BINGO WINNERS\n  \n\n\n\n\n\n\n\n\n\n\n\nMEMBER DRAW\nPat and Brenda Greteman were present to collect the $425.\nNext weeks drawing is $100\n  \n 
URL:https://carrollnational.golf/event_tec/bingo-night-member-draw-2/
CATEGORIES:Clubhouse Event
ATTACH;FMTTYPE=image/jpeg:https://carrollnational.golf/wp-content/uploads/2026/01/BINGO.jpg
END:VEVENT
BEGIN:VEVENT
DTSTART;TZID=America/Chicago:20260318T180000
DTEND;TZID=America/Chicago:20260318T200000
DTSTAMP:20260421T082124
CREATED:20260212T150803Z
LAST-MODIFIED:20260316T101915Z
UID:1674-1773856800-1773864000@carrollnational.golf
SUMMARY:ST PATRICK'S COURSE DINNER - CANCELLED
DESCRIPTION:We do apologize\, but unfortunately due to lack of sign-up\, the St Patrick Course Dinner will be cancelled.  Thank you to those that did RSVP.
URL:https://carrollnational.golf/event_tec/st-patricks-course-dinner/
CATEGORIES:Clubhouse Event
END:VEVENT
BEGIN:VEVENT
DTSTART;TZID=America/Chicago:20260319T190000
DTEND;TZID=America/Chicago:20260319T200000
DTSTAMP:20260421T082124
CREATED:20260114T150005Z
LAST-MODIFIED:20260320T125243Z
UID:1358-1773946800-1773950400@carrollnational.golf
SUMMARY:TRIVIA & MEMBER DRAW RESULTS
DESCRIPTION:MEMBER DRAW\nRiley Bach was not present to collect the $100.\nNext weeks drawing is $125\nTRIVIA WINNERS\n \n 
URL:https://carrollnational.golf/event_tec/trivia-member-draw-1-2-price-wings-5/
ATTACH;FMTTYPE=image/jpeg:https://carrollnational.golf/wp-content/uploads/2026/01/Trivia.jpg
END:VEVENT
BEGIN:VEVENT
DTSTART;TZID=America/Chicago:20260321T170000
DTEND;TZID=America/Chicago:20260321T210000
DTSTAMP:20260421T082124
CREATED:20260114T150655Z
LAST-MODIFIED:20260311T142026Z
UID:1367-1774112400-1774126800@carrollnational.golf
SUMMARY:76ers GAME WATCH & HAPPY HOUR
DESCRIPTION:HAPPY HOUR: 5:00 – 7:00PM – $2 off appetizers and $1 off cans of beer \nGAME TIME: 8:30PM vs Utah Jazz \nOpen to Members and guests! \n 
URL:https://carrollnational.golf/event_tec/76ers-game-watch-happy-hour-5/
END:VEVENT
BEGIN:VEVENT
DTSTART;TZID=America/Chicago:20260326T190000
DTEND;TZID=America/Chicago:20260326T200000
DTSTAMP:20260421T082124
CREATED:20260122T160542Z
LAST-MODIFIED:20260327T154411Z
UID:1550-1774551600-1774555200@carrollnational.golf
SUMMARY:BINGO NIGHT & MEMBER DRAW RESULTS
DESCRIPTION:MEMBER DRAW\nJon & Michelle Sturm were present to collect the $125.\n  \n  \n  \n  \n  \n  \nBINGO WINNERS
URL:https://carrollnational.golf/event_tec/bingo-night-member-draw-3/
CATEGORIES:Clubhouse Event
ATTACH;FMTTYPE=image/jpeg:https://carrollnational.golf/wp-content/uploads/2026/01/BINGO.jpg
END:VEVENT
BEGIN:VEVENT
DTSTART;TZID=America/Chicago:20260328T170000
DTEND;TZID=America/Chicago:20260328T210000
DTSTAMP:20260421T082124
CREATED:20260114T151504Z
LAST-MODIFIED:20260323T185833Z
UID:1371-1774717200-1774731600@carrollnational.golf
SUMMARY:76ers GAME WATCH & HAPPY HOUR
DESCRIPTION: 
URL:https://carrollnational.golf/event_tec/76ers-game-watch-happy-hour-7/
END:VEVENT
END:VCALENDAR