BEGIN:VCALENDAR
VERSION:2.0
PRODID:-//Carroll National Golf Club - ECPv6.15.17.1//NONSGML v1.0//EN
CALSCALE:GREGORIAN
METHOD:PUBLISH
X-WR-CALNAME:Carroll National Golf Club
X-ORIGINAL-URL:https://carrollnational.golf
X-WR-CALDESC:Events for Carroll National Golf Club
REFRESH-INTERVAL;VALUE=DURATION:PT1H
X-Robots-Tag:noindex
X-PUBLISHED-TTL:PT1H
BEGIN:VTIMEZONE
TZID:America/Chicago
BEGIN:DAYLIGHT
TZOFFSETFROM:-0600
TZOFFSETTO:-0500
TZNAME:CDT
DTSTART:20240310T080000
END:DAYLIGHT
BEGIN:STANDARD
TZOFFSETFROM:-0500
TZOFFSETTO:-0600
TZNAME:CST
DTSTART:20241103T070000
END:STANDARD
BEGIN:DAYLIGHT
TZOFFSETFROM:-0600
TZOFFSETTO:-0500
TZNAME:CDT
DTSTART:20250309T080000
END:DAYLIGHT
BEGIN:STANDARD
TZOFFSETFROM:-0500
TZOFFSETTO:-0600
TZNAME:CST
DTSTART:20251102T070000
END:STANDARD
BEGIN:DAYLIGHT
TZOFFSETFROM:-0600
TZOFFSETTO:-0500
TZNAME:CDT
DTSTART:20260308T080000
END:DAYLIGHT
BEGIN:STANDARD
TZOFFSETFROM:-0500
TZOFFSETTO:-0600
TZNAME:CST
DTSTART:20261101T070000
END:STANDARD
END:VTIMEZONE
BEGIN:VEVENT
DTSTART;TZID=America/Chicago:20250204T193000
DTEND;TZID=America/Chicago:20250204T220000
DTSTAMP:20260419T122727
CREATED:20250130T163321Z
LAST-MODIFIED:20250130T163321Z
UID:771-1738697400-1738706400@carrollnational.golf
SUMMARY:Mavericks vs 76ers
DESCRIPTION:Basketball game.
URL:https://carrollnational.golf/event_tec/mavericks-vs-76ers/
LOCATION:Carroll National Golf Club\, 20069 Olympic Avenue\, Carroll\, Iowa\, 51401\, United States
ATTACH;FMTTYPE=image/png:https://carrollnational.golf/wp-content/uploads/2024/07/mac-rita.png
END:VEVENT
BEGIN:VEVENT
DTSTART;TZID=America/Chicago:20250205T193000
DTEND;TZID=America/Chicago:20250205T220000
DTSTAMP:20260419T122727
CREATED:20250130T163404Z
LAST-MODIFIED:20250130T163404Z
UID:773-1738783800-1738792800@carrollnational.golf
SUMMARY:Heat vs 76ers
DESCRIPTION:Basketball game.
URL:https://carrollnational.golf/event_tec/heat-vs-76ers/
LOCATION:Carroll National Golf Club\, 20069 Olympic Avenue\, Carroll\, Iowa\, 51401\, United States
ATTACH;FMTTYPE=image/png:https://carrollnational.golf/wp-content/uploads/2024/07/mac-rita.png
END:VEVENT
BEGIN:VEVENT
DTSTART;TZID=America/Chicago:20250206T190000
DTEND;TZID=America/Chicago:20250206T220000
DTSTAMP:20260419T122727
CREATED:20250130T163537Z
LAST-MODIFIED:20250130T163537Z
UID:775-1738868400-1738879200@carrollnational.golf
SUMMARY:Trivia Night
DESCRIPTION:Trivia night.
URL:https://carrollnational.golf/event_tec/trivia-night/
LOCATION:Carroll National Golf Club\, 20069 Olympic Avenue\, Carroll\, Iowa\, 51401\, United States
ATTACH;FMTTYPE=image/png:https://carrollnational.golf/wp-content/uploads/2024/07/mac-rita.png
END:VEVENT
BEGIN:VEVENT
DTSTART;VALUE=DATE:20250209
DTEND;VALUE=DATE:20250210
DTSTAMP:20260419T122727
CREATED:20250130T163850Z
LAST-MODIFIED:20250130T163850Z
UID:781-1739059200-1739145599@carrollnational.golf
SUMMARY:Super Bowl Party
DESCRIPTION:Super Bowl Party.
URL:https://carrollnational.golf/event_tec/super-bowl-party/
LOCATION:Carroll National Golf Club\, 20069 Olympic Avenue\, Carroll\, Iowa\, 51401\, United States
ATTACH;FMTTYPE=image/png:https://carrollnational.golf/wp-content/uploads/2024/07/mac-rita.png
END:VEVENT
BEGIN:VEVENT
DTSTART;TZID=America/Chicago:20250209T073000
DTEND;TZID=America/Chicago:20250209T220000
DTSTAMP:20260419T122727
CREATED:20250130T163923Z
LAST-MODIFIED:20250130T163923Z
UID:783-1739086200-1739138400@carrollnational.golf
SUMMARY:76ers vs Bucks
DESCRIPTION:Basketball game.
URL:https://carrollnational.golf/event_tec/76ers-vs-bucks/
LOCATION:Carroll National Golf Club\, 20069 Olympic Avenue\, Carroll\, Iowa\, 51401\, United States
ATTACH;FMTTYPE=image/png:https://carrollnational.golf/wp-content/uploads/2024/07/mac-rita.png
END:VEVENT
BEGIN:VEVENT
DTSTART;TZID=America/Chicago:20250211T073000
DTEND;TZID=America/Chicago:20250211T220000
DTSTAMP:20260419T122727
CREATED:20250130T164003Z
LAST-MODIFIED:20250130T164003Z
UID:785-1739259000-1739311200@carrollnational.golf
SUMMARY:Raptors vs 76ers
DESCRIPTION:Basketball game.
URL:https://carrollnational.golf/event_tec/raptors-vs-76ers/
LOCATION:Carroll National Golf Club\, 20069 Olympic Avenue\, Carroll\, Iowa\, 51401\, United States
ATTACH;FMTTYPE=image/png:https://carrollnational.golf/wp-content/uploads/2024/07/mac-rita.png
END:VEVENT
BEGIN:VEVENT
DTSTART;TZID=America/Chicago:20250212T193000
DTEND;TZID=America/Chicago:20250212T220000
DTSTAMP:20260419T122727
CREATED:20250130T164041Z
LAST-MODIFIED:20250130T164041Z
UID:787-1739388600-1739397600@carrollnational.golf
SUMMARY:76ers vs Nets
DESCRIPTION:Basketball game.
URL:https://carrollnational.golf/event_tec/76ers-vs-nets/
LOCATION:Carroll National Golf Club\, 20069 Olympic Avenue\, Carroll\, Iowa\, 51401\, United States
ATTACH;FMTTYPE=image/png:https://carrollnational.golf/wp-content/uploads/2024/07/mac-rita.png
END:VEVENT
BEGIN:VEVENT
DTSTART;TZID=America/Chicago:20250213T193000
DTEND;TZID=America/Chicago:20250213T220000
DTSTAMP:20260419T122727
CREATED:20250130T164128Z
LAST-MODIFIED:20250130T164128Z
UID:789-1739475000-1739484000@carrollnational.golf
SUMMARY:Trivia Night
DESCRIPTION:Trivia night.
URL:https://carrollnational.golf/event_tec/trivia-night-2/
LOCATION:Carroll National Golf Club\, 20069 Olympic Avenue\, Carroll\, Iowa\, 51401\, United States
ATTACH;FMTTYPE=image/png:https://carrollnational.golf/wp-content/uploads/2024/07/mac-rita.png
END:VEVENT
BEGIN:VEVENT
DTSTART;TZID=America/Chicago:20250213T193000
DTEND;TZID=America/Chicago:20250213T220000
DTSTAMP:20260419T122727
CREATED:20250130T164206Z
LAST-MODIFIED:20250130T164206Z
UID:791-1739475000-1739484000@carrollnational.golf
SUMMARY:Girl's Night Out
DESCRIPTION:Girls night out.
URL:https://carrollnational.golf/event_tec/girls-night-out/
LOCATION:Carroll National Golf Club\, 20069 Olympic Avenue\, Carroll\, Iowa\, 51401\, United States
ATTACH;FMTTYPE=image/png:https://carrollnational.golf/wp-content/uploads/2024/07/mac-rita.png
END:VEVENT
BEGIN:VEVENT
DTSTART;TZID=America/Chicago:20250214T193000
DTEND;TZID=America/Chicago:20250214T220000
DTSTAMP:20260419T122727
CREATED:20250130T164320Z
LAST-MODIFIED:20250130T164320Z
UID:793-1739561400-1739570400@carrollnational.golf
SUMMARY:Valentine's Day Supper of Soulmates
DESCRIPTION:Valentine’s Day \n– Supper of Soulmates \n– 4 Course Meal \n 
URL:https://carrollnational.golf/event_tec/valentines-day-supper-of-soulmates/
LOCATION:Carroll National Golf Club\, 20069 Olympic Avenue\, Carroll\, Iowa\, 51401\, United States
ATTACH;FMTTYPE=image/png:https://carrollnational.golf/wp-content/uploads/2024/07/mac-rita.png
END:VEVENT
BEGIN:VEVENT
DTSTART;TZID=America/Chicago:20250215T193000
DTEND;TZID=America/Chicago:20250215T220000
DTSTAMP:20260419T122727
CREATED:20250130T164413Z
LAST-MODIFIED:20250130T164413Z
UID:795-1739647800-1739656800@carrollnational.golf
SUMMARY:Single Mingle
DESCRIPTION:Single Mingle \n– Discounted Meal \n– Half off drinks for singles
URL:https://carrollnational.golf/event_tec/single-mingle/
LOCATION:Carroll National Golf Club\, 20069 Olympic Avenue\, Carroll\, Iowa\, 51401\, United States
ATTACH;FMTTYPE=image/png:https://carrollnational.golf/wp-content/uploads/2024/07/mac-rita.png
END:VEVENT
BEGIN:VEVENT
DTSTART;TZID=America/Chicago:20250220T193000
DTEND;TZID=America/Chicago:20250220T220000
DTSTAMP:20260419T122727
CREATED:20250130T164458Z
LAST-MODIFIED:20250130T164458Z
UID:797-1740079800-1740088800@carrollnational.golf
SUMMARY:Trivia Night
DESCRIPTION:Trivia night.
URL:https://carrollnational.golf/event_tec/trivia-night-3/
LOCATION:Carroll National Golf Club\, 20069 Olympic Avenue\, Carroll\, Iowa\, 51401\, United States
ATTACH;FMTTYPE=image/png:https://carrollnational.golf/wp-content/uploads/2024/07/mac-rita.png
END:VEVENT
BEGIN:VEVENT
DTSTART;TZID=America/Chicago:20250220T193000
DTEND;TZID=America/Chicago:20250220T220000
DTSTAMP:20260419T122727
CREATED:20250130T164537Z
LAST-MODIFIED:20250130T164537Z
UID:799-1740079800-1740088800@carrollnational.golf
SUMMARY:Celtics vs 76ers
DESCRIPTION:Basketball game.
URL:https://carrollnational.golf/event_tec/celtics-vs-76ers-2/
LOCATION:Carroll National Golf Club\, 20069 Olympic Avenue\, Carroll\, Iowa\, 51401\, United States
ATTACH;FMTTYPE=image/png:https://carrollnational.golf/wp-content/uploads/2024/07/mac-rita.png
END:VEVENT
BEGIN:VEVENT
DTSTART;TZID=America/Chicago:20250222T193000
DTEND;TZID=America/Chicago:20250222T220000
DTSTAMP:20260419T122727
CREATED:20250130T164612Z
LAST-MODIFIED:20250130T164612Z
UID:801-1740252600-1740261600@carrollnational.golf
SUMMARY:Nets vs 76ers
DESCRIPTION:Basketball game.
URL:https://carrollnational.golf/event_tec/nets-vs-76ers/
LOCATION:Carroll National Golf Club\, 20069 Olympic Avenue\, Carroll\, Iowa\, 51401\, United States
ATTACH;FMTTYPE=image/png:https://carrollnational.golf/wp-content/uploads/2024/07/mac-rita.png
END:VEVENT
BEGIN:VEVENT
DTSTART;TZID=America/Chicago:20250224T193000
DTEND;TZID=America/Chicago:20250224T220000
DTSTAMP:20260419T122727
CREATED:20250130T164647Z
LAST-MODIFIED:20250130T164647Z
UID:803-1740425400-1740434400@carrollnational.golf
SUMMARY:Bulls vs 76ers
DESCRIPTION:Basketball game.
URL:https://carrollnational.golf/event_tec/bulls-vs-76ers/
LOCATION:Carroll National Golf Club\, 20069 Olympic Avenue\, Carroll\, Iowa\, 51401\, United States
ATTACH;FMTTYPE=image/png:https://carrollnational.golf/wp-content/uploads/2024/07/mac-rita.png
END:VEVENT
BEGIN:VEVENT
DTSTART;TZID=America/Chicago:20250227T193000
DTEND;TZID=America/Chicago:20250227T220000
DTSTAMP:20260419T122727
CREATED:20250130T164720Z
LAST-MODIFIED:20250130T164720Z
UID:805-1740684600-1740693600@carrollnational.golf
SUMMARY:Trivia Night
DESCRIPTION:Trivia night.
URL:https://carrollnational.golf/event_tec/trivia-night-4/
LOCATION:Carroll National Golf Club\, 20069 Olympic Avenue\, Carroll\, Iowa\, 51401\, United States
ATTACH;FMTTYPE=image/png:https://carrollnational.golf/wp-content/uploads/2024/07/mac-rita.png
END:VEVENT
BEGIN:VEVENT
DTSTART;TZID=America/Chicago:20250228T193000
DTEND;TZID=America/Chicago:20250228T220000
DTSTAMP:20260419T122727
CREATED:20250130T164759Z
LAST-MODIFIED:20250130T164759Z
UID:807-1740771000-1740780000@carrollnational.golf
SUMMARY:76ers vs Knicks
DESCRIPTION:Basketball game.
URL:https://carrollnational.golf/event_tec/76ers-vs-knicks/
LOCATION:Carroll National Golf Club\, 20069 Olympic Avenue\, Carroll\, Iowa\, 51401\, United States
ATTACH;FMTTYPE=image/png:https://carrollnational.golf/wp-content/uploads/2024/07/mac-rita.png
END:VEVENT
END:VCALENDAR